BEGIN:VCALENDAR
VERSION:2.0
PRODID:
CALSCALE:GREGORIAN
METHOD:PUBLISH
BEGIN:VTIMEZONE
TZID:Europe/Zurich
BEGIN:STANDARD
DTSTART:19691231T230000
TZOFFSETTO:+0100
TZOFFSETFROM:+0100
END:STANDARD
END:VTIMEZONE
BEGIN:VEVENT
UID:14
DTSTART:20201030T190000
DTEND:20201030T210000
STATUS:
SUMMARY:Cemeteries are part of the Geneva landscape. Some of them are 
 even better known than some monuments. But cemeteries, as we know them
 , come from an evolution, because for a long time, the dead rubbed sho
 ulders with the living very closely ...
DESCRIPTION:
GEO:46.232146;6.072192
URL:https://aubergedesvergers.ch/events/14/the-aperos-of-history-genev
 a-cemeteries
DTSTAMP:20260419T173447Z
ORGANIZER;CN=Culture Auberge des Vergers;LANGUAGE=fr:mailto:culture@au
 bergedesvergers.ch
END:VEVENT
END:VCALENDAR
