BEGIN:VCALENDAR
VERSION:2.0
PRODID:
CALSCALE:GREGORIAN
METHOD:PUBLISH
BEGIN:VTIMEZONE
TZID:Europe/Zurich
BEGIN:STANDARD
DTSTART:19691231T230000
TZOFFSETTO:+0100
TZOFFSETFROM:+0100
END:STANDARD
END:VTIMEZONE
BEGIN:VEVENT
UID:8
DTSTART:20201011T100000
DTEND:20201011T140000
STATUS:
SUMMARY:To celebrate its official opening, the Auberge is pleased to i
 ntroduce you to its Sunday brunch. All in music!
In the company of lo
 cal musicians and their best gypsy jazz sounds, discover the Auberge&#
 39;s hot and cold homemade preparations: fresh juices, pies, pies and 
 pastries.

18/26 CHF
DESCRIPTION:
GEO:46.232146;6.072192
URL:https://aubergedesvergers.ch/events/8/musical-brunch
DTSTAMP:20260424T190345Z
ORGANIZER;CN=Culture Auberge des Vergers;LANGUAGE=fr:mailto:culture@au
 bergedesvergers.ch
END:VEVENT
END:VCALENDAR
