BEGIN:VCALENDAR
VERSION:2.0
PRODID:
CALSCALE:GREGORIAN
METHOD:PUBLISH
BEGIN:VTIMEZONE
TZID:Europe/Zurich
BEGIN:STANDARD
DTSTART:19691231T230000
TZOFFSETTO:+0100
TZOFFSETFROM:+0100
END:STANDARD
END:VTIMEZONE
BEGIN:VEVENT
UID:60
DTSTART:20210718T140000
DTEND:20210718T170000
STATUS:
SUMMARY:After the success of the first edition, the Auberge undertook 
 to organize this chess tournament on a regular basis.

See you once 
 a month at the Auberge’s restaurant to meet your friends, family, en
 emies. Decontration and conviviality are on the program;)

Tourname
 nt always on registration for a better organization. Depending on the
  number of increments we will open new places, and possibly new format
 s.
DESCRIPTION:
GEO:46.232146;6.072192
URL:https://aubergedesvergers.ch/events/60/chess-tournament-1
DTSTAMP:20260421T033311Z
ORGANIZER;CN=Culture Auberge des Vergers;LANGUAGE=fr:mailto:culture@au
 bergedesvergers.ch
END:VEVENT
END:VCALENDAR
