BEGIN:VCALENDAR
VERSION:2.0
PRODID:
CALSCALE:GREGORIAN
METHOD:PUBLISH
BEGIN:VTIMEZONE
TZID:Europe/Zurich
BEGIN:STANDARD
DTSTART:19691231T230000
TZOFFSETTO:+0100
TZOFFSETFROM:+0100
END:STANDARD
END:VTIMEZONE
BEGIN:VEVENT
UID:60
DTSTART:20210718T140000
DTEND:20210718T170000
STATUS:
SUMMARY:Après le succès de la première édition, l&#39;Auberge entr
 eprend d&#39;organiser de manière régulière ce tournoi d&#39;échec
 s.

Rendez-vous une fois par mois au restaurant de l&#39;Auberge pou
 r vous mesurer à vos amis, famille, ennemis. Décontration et convivi
 alité sont au programme ;)

Tournoi toujours sur inscription pour u
 ne meilleure organisation. En fonction du nombre d&#39;incrits nous ou
 vrirons de nouvelles places, et possiblement de nouveaux formats.
DESCRIPTION:
GEO:46.232146;6.072192
URL:https://aubergedesvergers.ch/evenements/60/tournoi-dechecs-1
DTSTAMP:20260421T054412Z
ORGANIZER;CN=Culture Auberge des Vergers;LANGUAGE=fr:mailto:culture@au
 bergedesvergers.ch
END:VEVENT
END:VCALENDAR
