BEGIN:VCALENDAR
VERSION:2.0
PRODID:
CALSCALE:GREGORIAN
METHOD:PUBLISH
BEGIN:VTIMEZONE
TZID:Europe/Zurich
BEGIN:STANDARD
DTSTART:19691231T230000
TZOFFSETTO:+0100
TZOFFSETFROM:+0100
END:STANDARD
END:VTIMEZONE
BEGIN:VEVENT
UID:14
DTSTART:20201030T190000
DTEND:20201030T210000
STATUS:
SUMMARY:Les cimetières font parties du paysage genevois. Certains d
 ’entre eux sont même plus connus que certains monuments. Mais les c
 etières, tels qu’on les connaît, proviennent d’une évolution, c
 ar pendant longtemps, les morts ont côtoyé de très près les vivant
 s…
DESCRIPTION:
GEO:46.232146;6.072192
URL:https://aubergedesvergers.ch/evenements/14/les-aperos-de-lhistoire
 -les-cimetieres-genevois
DTSTAMP:20260419T155341Z
ORGANIZER;CN=Culture Auberge des Vergers;LANGUAGE=fr:mailto:culture@au
 bergedesvergers.ch
END:VEVENT
END:VCALENDAR
