BEGIN:VCALENDAR
VERSION:2.0
PRODID:
CALSCALE:GREGORIAN
METHOD:PUBLISH
BEGIN:VTIMEZONE
TZID:Europe/Zurich
BEGIN:STANDARD
DTSTART:19691231T230000
TZOFFSETTO:+0100
TZOFFSETFROM:+0100
END:STANDARD
END:VTIMEZONE
BEGIN:VEVENT
UID:8
DTSTART:20201011T100000
DTEND:20201011T140000
STATUS:
SUMMARY:Afin de célébrer son ouverture officielle, l&#39;Auberge a l
 e plaisir de vous faire découvrir son brunch dominical. Le tout en mu
 sique !

En compagnie des musiciens du quartier et de leurs meilleur
 s sons jazz manouche, découvrir les préparations maisons chaudes et 
 froides de l&#39;Auberge : jus frais, tartes, tourtes et viennoiseries
 .

18/26 CHF
DESCRIPTION:
GEO:46.232146;6.072192
URL:https://aubergedesvergers.ch/evenements/8/brunch-musical
DTSTAMP:20260424T172339Z
ORGANIZER;CN=Culture Auberge des Vergers;LANGUAGE=fr:mailto:culture@au
 bergedesvergers.ch
END:VEVENT
END:VCALENDAR
